BEGIN:VCALENDAR
VERSION:2.0
PRODID:-//igrista.net - ECPv6.15.20//NONSGML v1.0//EN
CALSCALE:GREGORIAN
METHOD:PUBLISH
X-WR-CALNAME:igrista.net
X-ORIGINAL-URL:https://www.igrista.net
X-WR-CALDESC:Events for igrista.net
REFRESH-INTERVAL;VALUE=DURATION:PT1H
X-Robots-Tag:noindex
X-PUBLISHED-TTL:PT1H
BEGIN:VTIMEZONE
TZID:Europe/Paris
BEGIN:DAYLIGHT
TZOFFSETFROM:+0100
TZOFFSETTO:+0200
TZNAME:CEST
DTSTART:20240331T010000
END:DAYLIGHT
BEGIN:STANDARD
TZOFFSETFROM:+0200
TZOFFSETTO:+0100
TZNAME:CET
DTSTART:20241027T010000
END:STANDARD
BEGIN:DAYLIGHT
TZOFFSETFROM:+0100
TZOFFSETTO:+0200
TZNAME:CEST
DTSTART:20250330T010000
END:DAYLIGHT
BEGIN:STANDARD
TZOFFSETFROM:+0200
TZOFFSETTO:+0100
TZNAME:CET
DTSTART:20251026T010000
END:STANDARD
BEGIN:DAYLIGHT
TZOFFSETFROM:+0100
TZOFFSETTO:+0200
TZNAME:CEST
DTSTART:20260329T010000
END:DAYLIGHT
BEGIN:STANDARD
TZOFFSETFROM:+0200
TZOFFSETTO:+0100
TZNAME:CET
DTSTART:20261025T010000
END:STANDARD
BEGIN:DAYLIGHT
TZOFFSETFROM:+0100
TZOFFSETTO:+0200
TZNAME:CEST
DTSTART:20270328T010000
END:DAYLIGHT
BEGIN:STANDARD
TZOFFSETFROM:+0200
TZOFFSETTO:+0100
TZNAME:CET
DTSTART:20271031T010000
END:STANDARD
END:VTIMEZONE
BEGIN:VEVENT
DTSTART;TZID=Europe/Paris:20260103T080000
DTEND;TZID=Europe/Paris:20260103T160000
DTSTAMP:20260420T064125
CREATED:20260101T233434Z
LAST-MODIFIED:20260102T001431Z
UID:961-1767427200-1767456000@www.igrista.net
SUMMARY:OTVARANJE SEZONE
DESCRIPTION:Sezona na Igrištima počinje u subotu\, 3. januara! \nZa skijaše će biti dostupni staza 2 i poligon\, u periodu od 9 do 16h!\nVidimo se na Igrištima - mjestu gdje zima ima svoj ritam i svaki trenutak postaje poseban! \nhttps://www.igrista.net/wp-content/uploads/2026/01/2026-01-03-OtvaranjeSezone.mp4
URL:https://www.igrista.net/event/otvaranje-sezone2026/
ORGANIZER;CN="OC Igri%C5%A1ta":MAILTO:pr@oc-jahorina.com
END:VEVENT
BEGIN:VEVENT
DTSTART;TZID=Europe/Paris:20250221T000000
DTEND;TZID=Europe/Paris:20250221T000000
DTSTAMP:20260420T064125
CREATED:20250120T135639Z
LAST-MODIFIED:20250120T140759Z
UID:372-1740096000-1740096000@www.igrista.net
SUMMARY:21.2.2025. gostovanje- Nenad Jovanović
DESCRIPTION:
URL:https://www.igrista.net/event/21-2-2025-nenad-jovanovic/
LOCATION:Ozon Bar\, Igrišta\, Vlasenica\, Republika Srpsla\, 75440\, Bosnia and Herzegovina
CATEGORIES:Koncerti
ORGANIZER;CN="OC Igri%C5%A1ta":MAILTO:pr@oc-jahorina.com
END:VEVENT
BEGIN:VEVENT
DTSTART;TZID=Europe/Paris:20250207T000000
DTEND;TZID=Europe/Paris:20250207T000000
DTSTAMP:20260420T064125
CREATED:20250120T135506Z
LAST-MODIFIED:20250120T140819Z
UID:370-1738886400-1738886400@www.igrista.net
SUMMARY:7.2.2025. gostovanje- Mirza Selimović
DESCRIPTION:
URL:https://www.igrista.net/event/7-2-2025-mirza-selimovic/
LOCATION:Ozon Bar\, Igrišta\, Vlasenica\, Republika Srpsla\, 75440\, Bosnia and Herzegovina
CATEGORIES:Koncerti
ORGANIZER;CN="OC Igri%C5%A1ta":MAILTO:pr@oc-jahorina.com
END:VEVENT
BEGIN:VEVENT
DTSTART;TZID=Europe/Paris:20250202T000000
DTEND;TZID=Europe/Paris:20250202T235959
DTSTAMP:20260420T064125
CREATED:20250120T135153Z
LAST-MODIFIED:20250127T131442Z
UID:365-1738454400-1738540799@www.igrista.net
SUMMARY:2.2.2025. Planinarski pohod - Pjenovac 2025.
DESCRIPTION:POHOD U PJENOVAC 2025\nPlaninarsko-ekološko društvo „ACER“ iz Vlasenice vas poziva na tradicionalnu akciju „Pohod u Pjenovac“. Jedna od najmasovnijih planinarskih akcija u regionu održaće se u nedjelju\, 2. februara 2025. \n  \n  \n  \n  \nPROGRAM AKCIJE\nSubota\, 1. februar 2025.\nDoček i smještaj planinara iz drugih gradova koji namjeravaju prenoćiti u Vlasenici. Obezbijeđen je odgovarajući privatni smještaj (posteljina\, kupatilo\, zagrijane prostorije)\, cijenu smještaja određuju domaćini. Takođe\, kao i prethodnih godina\, moguć je smještaj u kvalitetnim objektima sa\, za ovu priliku\, veoma pristupačnim cijenama: Motel M (Vlasenica)\, “Grand apartmani” (Vlasenica)\, Restoran "Pogled" (Han Pogled)\, Motel “DRAM” (Milići)\, Motel "Kristal" ( Dubnički Most - Milići) "Planinska kuća" (Han Pijesak)\, "Anin Dvor" (Lovnica-Šekovići)\, Planinski kamp “Jazavčije rupe” . Navedeni su prema udaljenosti od Vlasenice. Zbog velikog interesovanja preporučujemo vam da već sada kontaktirate neki od ponuđenih objekata i rezervišete smještaj. Doček planinara će biti u Motelu M u Vlasenici. U 19.30 je planinarsko veče u Motelu M sa muzikom uživo (zbog velikog interesovanja\, ne vršimo rezervaciju stolica za planinarsko veče). U toku večeri gostujućim društvima će biti uručene prigodne diplome. \nNedjelja\, 2. februar 2025. \n08.00 Okupljanje planinara na parkingu kod stadiona. Prevoz planinara do Pećine. \n08.30 Otvaranje pohoda i pješačenje preko najljepših dijelova Javor planine. Planiramo ići stazom preko Debelog brda\, Igrišta\, Podkozlovače\, pored rijeke Bjesnice\, preko Mrkova do Pjenovca\, uz usputne kraće odmore. Staza je duga oko 16 kilometara\, a dolazak u Pjenovac je između 14.00 i 15.00 časova. Ručak za sve učesnike pohoda je kod manastira u Pjenovcu. Prevoz planinara do Vlasenice. \nMolimo planinarska društva koja u Vlasenicu organizovano dolaze svojim prevozom\, da isti iskoriste i za povratak iz Pjenovca. \nZbog velikih organizacionih troškova\, svi učesnici Pohoda uplaćuju kotizaciju od 5 KM. \nNapominjemo da će Ski centar “Igrišta” biti u punom pogonu\, tako da preporučujemo da boravak u Vlasenici obogatite skijanjem na stazama Olimpijskog centra Jahorina. \nDOBRODOŠLI U VLASENICU!
URL:https://www.igrista.net/event/2-2-2025-planinarski-pohod-pjenovac-2025/
LOCATION:Česma kod pećine - Zeleni Pjesak\, Igrišta\, Vlasenica\, Republika Srpsla\, 75440\, Bosnia and Herzegovina
CATEGORIES:Planinarske akcije
END:VEVENT
BEGIN:VEVENT
DTSTART;TZID=Europe/Paris:20250131T000000
DTEND;TZID=Europe/Paris:20250131T000000
DTSTAMP:20260420T064125
CREATED:20250120T134601Z
LAST-MODIFIED:20250120T140906Z
UID:363-1738281600-1738281600@www.igrista.net
SUMMARY:31.1.2025. gostovanje- Jovana Pajić
DESCRIPTION:
URL:https://www.igrista.net/event/31-1-2025-jovana-pajic/
LOCATION:Ozon Bar\, Igrišta\, Vlasenica\, Republika Srpsla\, 75440\, Bosnia and Herzegovina
CATEGORIES:Koncerti
ORGANIZER;CN="OC Igri%C5%A1ta":MAILTO:pr@oc-jahorina.com
END:VEVENT
BEGIN:VEVENT
DTSTART;TZID=Europe/Paris:20250124T000000
DTEND;TZID=Europe/Paris:20250124T000000
DTSTAMP:20260420T064125
CREATED:20250120T134150Z
LAST-MODIFIED:20250123T124000Z
UID:359-1737676800-1737676800@www.igrista.net
SUMMARY:24.1.2025. gostovanje- Romana
DESCRIPTION:
URL:https://www.igrista.net/event/24-1-2025-romana/
LOCATION:Ozon Bar\, Igrišta\, Vlasenica\, Republika Srpsla\, 75440\, Bosnia and Herzegovina
CATEGORIES:Koncerti
ORGANIZER;CN="OC Igri%C5%A1ta":MAILTO:pr@oc-jahorina.com
END:VEVENT
END:VCALENDAR